BEGIN:VCALENDAR
VERSION:2.0
PRODID:-//wp-events-plugin.com//7.1.3//EN
BEGIN:VEVENT
UID:15@systematikforeningen.se
DTSTART;VALUE=DATE:20211129
DTEND;VALUE=DATE:20211201
DTSTAMP:20211125T083518Z
URL:https://systematikforeningen.se/events/registration-for-systematikdaga
 rna-2021/
SUMMARY:Registration for Systematikdagarna 2021
DESCRIPTION:Please register below to participate in Systematikdagarna 2021\
 , preferably before November 12.\n\n\nNote: If you already have an account
  on systematikforeningen.se\, please log in before registering for the con
 ference. While doing so your saved details (email address\, etc.) will be 
 automatically added to the registration form.\n\nOnce your registration is
  completed\, you will receive an e-mail with information.\n\nContact\nFor 
 problems with the registration form\, please contact webmaster Anja. For q
 uestions about the event or presentations\, please contact per.alstrom@ebc
 .uu.se.\n\n
CATEGORIES:Systematikdagarna
END:VEVENT
END:VCALENDAR