BEGIN:VCALENDAR
VERSION:2.0
PRODID:-//wp-events-plugin.com//7.1.3//EN
BEGIN:VEVENT
UID:4@systematikforeningen.se
DTSTART:20121126T070000Z
DTEND:20121127T140000Z
DTSTAMP:20121116T202132Z
URL:https://systematikforeningen.se/events/systematikdagarna-i-uppsala-201
 2/
SUMMARY:Systematikdagarna i Uppsala 2012
DESCRIPTION:Välkommen att registrera dig för Systematikdagarna i Uppsala 
 2012!\nAnmälan\n\nDeltagande i Systematikdagarna 2012 förutsätter föra
 nmälan\, vilken sker senast 14 november. Anmälan efter den 31:a oktober 
 medför högre deltagaravgift.\n\nPoster (titel\, sammanfattning)\n\nOm du
  vill presentera en poster fyller du i en titel och en sammanfattning (abs
 tract) på max  250 ord. Skriv författarlista på första raden av samma
 nfattningen. Postrarna kommer också att presenteras vid en blixtpresentat
 ion i plenum där du får 60 sekunder att utan hjälpmedel introducera din
  poster. Det finns några fåtal öppningar att presentera muntligt och om
  du kan tänka dig att ha en plenumpresentation i stället för poster\, m
 arkera detta i anmälan. Posterformat är (stående) max  bredd 70 cm x h
 öjd 100 cm.\n\nDeltagaravgift\n\nRegistreringen kostar 475 kr/person och 
 inkluderar konferensavgift\, fika\, lunch och konferensmiddag på kvällen
  den 26e. Vill du inte delta i konferensmiddagen är avgiften 150 kr/perso
 n. Anmäler du dig efter den sista oktober blir avgiften 50 kr större.\n\
 nVänligen betala till:\nPlusgiro 50 86 22-8\nAlternativt:\nBankgiro 400-5
 971\nAnge följande som betalningsmeddelande:\nSD2012 DITT NAMN DITT LÄRO
 SÄTE/ARBETSPLATS\nNär du registrerar dig till konferensen kommer du att 
 få ett epostmeddelande med betalningsinformation och belopp. När betalni
 ngen är bekräftad kommer du att få ytterligare ett meddelande.\n\nMedle
 mskap i föreningen\n\nNär du anmäler dig till konferensen har du även 
 möjlighet att betala Systematikföreningens årliga medlemsavgift för 20
 12. Som ny medlem är du givetvis välkommen att skapa ett användarkonto
  på vår hemsida.\n\nDu som redan har ett konto och är inloggad behöver
  inte vid registreringen till konferensen ange namn eller epost utan uppgi
 fterna återanvänds från din profil.\n\n&nbsp\;
CATEGORIES:Systematikdagarna
LOCATION:Ihresalen (plenum)\, Thunbergsvägen 3i\, Uppsala\, Sverige
GEO:59.85350349999999;17.6246807
X-APPLE-STRUCTURED-LOCATION;VALUE=URI;X-ADDRESS=Thunbergsvägen 3i\, Uppsal
 a\, Sverige;X-APPLE-RADIUS=100;X-TITLE=Ihresalen (plenum):geo:59.853503499
 99999,17.6246807
END:VEVENT
END:VCALENDAR